BEGIN:VCALENDAR
VERSION:2.0
PRODID:-// eRoom plugin //NONSGML v1.0//EN
CALSCALE:GREGORIAN
BEGIN:VEVENT
UID:eRoom-1776676189
SUMMARY:Accomplish your goals
LOCATION:
DESCRIPTION<p>This guide on Meta Marketing with Facebook helps you accomplish various goals. Explore strategies to leverage the power of Facebook for a diverse range of marketing objectives. Ideal for those looking to maximize their impact on the Meta platform.</p>
URL;VALUE=URI:https://wordpress.org/plugins/eroom-zoom-meetings-webinar/
DTSTART:20240130T133000Z
DTEND:20240130T153000Z
DTSTAMP:20260420T090949Z
BEGIN:VALARM
ACTION:DISPLAY
RIGGER;RELATED=START:-PT00H15M00S
BEGIN:VALARM
END:VEVENT
END:VCALENDAR