BEGIN:VCALENDAR
VERSION:2.0
PRODID:-// eRoom plugin //NONSGML v1.0//EN
CALSCALE:GREGORIAN
BEGIN:VEVENT
UID:eRoom-1776760385
SUMMARY:Banking and Financial services industry
LOCATION:
DESCRIPTION<p>The banking and financial services sector plays a pivotal role in any economy. This industry is not without its fair share of risks and challenges. In this session, we will explore the Banking and financial services industry and the risks faced.</p>
<p>&nbsp;</p>
URL;VALUE=URI:https://wordpress.org/plugins/eroom-zoom-meetings-webinar/
DTSTART:20240109T123000Z
DTEND:20240109T131500Z
DTSTAMP:20260421T083305Z
BEGIN:VALARM
ACTION:DISPLAY
RIGGER;RELATED=START:-PT00H15M00S
BEGIN:VALARM
END:VEVENT
END:VCALENDAR