BEGIN:VCALENDAR
VERSION:2.0
PRODID:-// eRoom plugin //NONSGML v1.0//EN
CALSCALE:GREGORIAN
BEGIN:VEVENT
UID:eRoom-1776760527
SUMMARY:Content Optimization
LOCATION:
DESCRIPTION<p>Unlock the power of content optimization with this guide. Learn strategies to enhance your content for search engines, improve visibility, and engage your target audience effectively. Master the art of crafting content that resonates and performs well in online searches.</p>
URL;VALUE=URI:https://wordpress.org/plugins/eroom-zoom-meetings-webinar/
DTSTART:20240109T133000Z
DTEND:20240109T153000Z
DTSTAMP:20260421T083527Z
BEGIN:VALARM
ACTION:DISPLAY
RIGGER;RELATED=START:-PT00H15M00S
BEGIN:VALARM
END:VEVENT
END:VCALENDAR