BEGIN:VCALENDAR
VERSION:2.0
PRODID:-// eRoom plugin //NONSGML v1.0//EN
CALSCALE:GREGORIAN
BEGIN:VEVENT
UID:eRoom-1776758901
SUMMARY:Due diligence requirements
LOCATION:
DESCRIPTION<p>In this session, participants will learn the concept of due diligence which is<span style="font-family: Arial">&nbsp;about understanding who the client and related parties are and establishing whether they pose a financial crime risk. </span></p>
URL;VALUE=URI:https://wordpress.org/plugins/eroom-zoom-meetings-webinar/
DTSTART:20240112T123000Z
DTEND:20240112T131500Z
DTSTAMP:20260421T080821Z
BEGIN:VALARM
ACTION:DISPLAY
RIGGER;RELATED=START:-PT00H15M00S
BEGIN:VALARM
END:VEVENT
END:VCALENDAR