BEGIN:VCALENDAR
VERSION:2.0
PRODID:-// eRoom plugin //NONSGML v1.0//EN
CALSCALE:GREGORIAN
BEGIN:VEVENT
UID:eRoom-1776673429
SUMMARY:Getting Started with Google Webmaster
LOCATION:
DESCRIPTION<p>Discover Google Search Console: Set up your account, add websites, and track performance. Monitor crawling status, errors, and indexing. Learn to enhance visibility by adding sitemaps effectively.</p>
URL;VALUE=URI:https://wordpress.org/plugins/eroom-zoom-meetings-webinar/
DTSTART:20240313T133000Z
DTEND:20240313T153000Z
DTSTAMP:20260420T082349Z
BEGIN:VALARM
ACTION:DISPLAY
RIGGER;RELATED=START:-PT00H15M00S
BEGIN:VALARM
END:VEVENT
END:VCALENDAR