BEGIN:VCALENDAR
VERSION:2.0
PRODID:-// eRoom plugin //NONSGML v1.0//EN
CALSCALE:GREGORIAN
BEGIN:VEVENT
UID:eRoom-1776250879
SUMMARY:Interface
LOCATION:
DESCRIPTION<p>Learn the ins and outs of the platform, from efficient navigation to interpreting both overview and full reports. Discover how to share critical insights and streamline your workflow by setting up personalized dashboards and shortcuts. Empower yourself to make data-driven decisions with confidence through a comprehensive understanding of the Google Analytics interface.</p>
URL;VALUE=URI:https://wordpress.org/plugins/eroom-zoom-meetings-webinar/
DTSTART:20240216T133000Z
DTEND:20240216T153000Z
DTSTAMP:20260415T110119Z
BEGIN:VALARM
ACTION:DISPLAY
RIGGER;RELATED=START:-PT00H15M00S
BEGIN:VALARM
END:VEVENT
END:VCALENDAR