BEGIN:VCALENDAR
VERSION:2.0
PRODID:-// eRoom plugin //NONSGML v1.0//EN
CALSCALE:GREGORIAN
BEGIN:VEVENT
UID:eRoom-1776674666
SUMMARY:Keyword Research Strategies
LOCATION:
DESCRIPTION<p>This guide delves into effective keyword research strategies, providing insights into optimizing content for search engines. Learn the essentials for identifying and utilizing keywords to enhance online visibility and drive targeted traffic. Ideal for mastering the art of strategic keyword selection.</p>
URL;VALUE=URI:https://wordpress.org/plugins/eroom-zoom-meetings-webinar/
DTSTART:20240108T133000Z
DTEND:20240108T153000Z
DTSTAMP:20260420T084426Z
BEGIN:VALARM
ACTION:DISPLAY
RIGGER;RELATED=START:-PT00H15M00S
BEGIN:VALARM
END:VEVENT
END:VCALENDAR