BEGIN:VCALENDAR
VERSION:2.0
PRODID:-// eRoom plugin //NONSGML v1.0//EN
CALSCALE:GREGORIAN
BEGIN:VEVENT
UID:eRoom-1776674138
SUMMARY:Link Building
LOCATION:
DESCRIPTION<p>Master the art of Link Building with this guide. Explore strategies to acquire high-quality backlinks, enhance your website's authority, and boost search engine rankings. Learn the dos and don'ts of effective link building for a robust and sustainable SEO strategy. Ideal for those looking to elevate their website's online presence through strategic link acquisition.</p>
URL;VALUE=URI:https://wordpress.org/plugins/eroom-zoom-meetings-webinar/
DTSTART:20240111T133000Z
DTEND:20240111T153000Z
DTSTAMP:20260420T083538Z
BEGIN:VALARM
ACTION:DISPLAY
RIGGER;RELATED=START:-PT00H15M00S
BEGIN:VALARM
END:VEVENT
END:VCALENDAR