BEGIN:VCALENDAR
VERSION:2.0
PRODID:-// eRoom plugin //NONSGML v1.0//EN
CALSCALE:GREGORIAN
BEGIN:VEVENT
UID:eRoom-1776315004
SUMMARY:Markets &amp; Market Makers
LOCATION:
DESCRIPTION<p><span style="color: #222222;font-family: Arial, Helvetica, sans-serif;font-size: small">Module: Markets &amp; Market Makers - Unveiling Market Dynamics</span><br style="color: #222222;font-family: Arial, Helvetica, sans-serif;font-size: small" /><br style="color: #222222;font-family: Arial, Helvetica, sans-serif;font-size: small" /><span style="color: #222222;font-family: Arial, Helvetica, sans-serif;font-size: small">The "Markets &amp; Market Makers" module is your window into the inner workings of financial markets. In this section, you'll delve into the intricacies of market structures, participant roles, and the vital presence of market makers.</span><br style="color: #222222;font-family: Arial, Helvetica, sans-serif;font-size: small" /><br style="color: #222222;font-family: Arial, Helvetica, sans-serif;font-size: small" /><span style="color: #222222;font-family: Arial, Helvetica, sans-serif;font-size: small">Key Highlights:</span><br style="color: #222222;font-family: Arial, Helvetica, sans-serif;font-size: small" /><br style="color: #222222;font-family: Arial, Helvetica, sans-serif;font-size: small" /><span style="color: #222222;font-family: Arial, Helvetica, sans-serif;font-size: small">Understanding Market Structure: Explore the dynamic framework of financial markets, including exchanges, order books, and OTC markets. Learn how different structures impact trading.</span><br style="color: #222222;font-family: Arial, Helvetica, sans-serif;font-size: small" /><br style="color: #222222;font-family: Arial, Helvetica, sans-serif;font-size: small" /><span style="color: #222222;font-family: Arial, Helvetica, sans-serif;font-size: small">Market Participants: Uncover the roles of retail traders, institutional investors, market makers, and high-frequency traders in shaping market behavior and liquidity.</span><br style="color: #222222;font-family: Arial, Helvetica, sans-serif;font-size: small" /><br style="color: #222222;font-family: Arial, Helvetica, sans-serif;font-size: small" /><span style="color: #222222;font-family: Arial, Helvetica, sans-serif;font-size: small">Market Liquidity: Delve into the concept of market liquidity and the factors influencing it, from bid-ask spreads to order flow and the pivotal role played by market makers.</span><br style="color: #222222;font-family: Arial, Helvetica, sans-serif;font-size: small" /><br style="color: #222222;font-family: Arial, Helvetica, sans-serif;font-size: small" /><span style="color: #222222;font-family: Arial, Helvetica, sans-serif;font-size: small">Market Makers' Role: Gain insight into market makers' functions, their profit mechanisms, and how they contribute to market stability by providing liquidity.</span><br style="color: #222222;font-family: Arial, Helvetica, sans-serif;font-size: small" /><br style="color: #222222;font-family: Arial, Helvetica, sans-serif;font-size: small" /><span style="color: #222222;font-family: Arial, Helvetica, sans-serif;font-size: small">News and Events Impact: Understand how news and events influence markets, and discover how market makers handle high-impact market events.</span><br style="color: #222222;font-family: Arial, Helvetica, sans-serif;font-size: small" /><br style="color: #222222;font-family: Arial, Helvetica, sans-serif;font-size: small" /><span style="color: #222222;font-family: Arial, Helvetica, sans-serif;font-size: small">Forex Market Insights: Unpack the operations of market makers in the forex market and learn how to engage with them as a retail trader.</span><br style="color: #222222;font-family: Arial, Helvetica, sans-serif;font-size: small" /><br style="color: #222222;font-family: Arial, Helvetica, sans-serif;font-size: small" /><span style="color: #222222;font-family: Arial, Helvetica, sans-serif;font-size: small">Regulations and Integrity: Understand the importance of financial regulations, their role in preserving market integrity, and how they safeguard traders.</span><br style="color: #222222;font-family: Arial, Helvetica, sans-serif;font-size: small" /><br style="color: #222222;font-family: Arial, Helvetica, sans-serif;font-size: small" /><span style="color: #222222;font-family: Arial, Helvetica, sans-serif;font-size: small">Future Trends: Explore emerging market trends, the influence of blockchain and cryptocurrencies, and prepare for the future landscape of trading.</span><br style="color: #222222;font-family: Arial, Helvetica, sans-serif;font-size: small" /><br style="color: #222222;font-family: Arial, Helvetica, sans-serif;font-size: small" /><span style="color: #222222;font-family: Arial, Helvetica, sans-serif;font-size: small">This module provides a profound understanding of the underlying mechanics of financial markets and the integral role market makers play. As you dive into market dynamics and regulatory aspects, you'll be well-equipped to make informed trading decisions in this intricate financial ecosystem.</span></p>
URL;VALUE=URI:https://wordpress.org/plugins/eroom-zoom-meetings-webinar/
DTSTART:20240105T140000Z
DTEND:20240105T144500Z
DTSTAMP:20260416T045004Z
BEGIN:VALARM
ACTION:DISPLAY
RIGGER;RELATED=START:-PT00H15M00S
BEGIN:VALARM
END:VEVENT
END:VCALENDAR