BEGIN:VCALENDAR
VERSION:2.0
PRODID:-// eRoom plugin //NONSGML v1.0//EN
CALSCALE:GREGORIAN
BEGIN:VEVENT
UID:eRoom-1776674378
SUMMARY:Regulated entity : KYC requirements
LOCATION:
DESCRIPTION<p class="MsoNormal"><span style="font-family: Arial, sans-serif">This session delves into the concept of regulated entities, examining their importance, key characteristics, and the nature of regulation they face.</span></p>
URL;VALUE=URI:https://wordpress.org/plugins/eroom-zoom-meetings-webinar/
DTSTART:20240126T123000Z
DTEND:20240126T140000Z
DTSTAMP:20260420T083938Z
BEGIN:VALARM
ACTION:DISPLAY
RIGGER;RELATED=START:-PT00H15M00S
BEGIN:VALARM
END:VEVENT
END:VCALENDAR