BEGIN:VCALENDAR
VERSION:2.0
PRODID:-// eRoom plugin //NONSGML v1.0//EN
CALSCALE:GREGORIAN
BEGIN:VEVENT
UID:eRoom-1776336122
SUMMARY:Regulatory/Compliance Risk and Readiness
LOCATION:
DESCRIPTION<p>In today's dynamic and highly regulated banking and financial industry, regulatory/compliance risks have become a major concern for banks and financial institutions. To ensure operational efficiency and maintain a strong reputation, it is essential for these institutions to continuously assess and enhance their compliance readiness. This session will explore some key aspects of regulatory/compliance risks and highlight the importance of being prepared.</p>
URL;VALUE=URI:https://wordpress.org/plugins/eroom-zoom-meetings-webinar/
DTSTART:20240108T133500Z
DTEND:20240108T135500Z
DTSTAMP:20260416T104202Z
BEGIN:VALARM
ACTION:DISPLAY
RIGGER;RELATED=START:-PT00H15M00S
BEGIN:VALARM
END:VEVENT
END:VCALENDAR