BEGIN:VCALENDAR
VERSION:2.0
PRODID:-// eRoom plugin //NONSGML v1.0//EN
CALSCALE:GREGORIAN
BEGIN:VEVENT
UID:eRoom-1776674438
SUMMARY:Setup Campaign
LOCATION:
DESCRIPTION<p>Effortlessly set up your campaign with this streamlined training session. Learn the essentials of campaign configuration, from defining objectives to selecting target audiences. Gain practical insights into budgeting, scheduling, and other key settings to ensure a successful campaign setup. Elevate your marketing strategy with a robust and effective campaign foundation.</p>
URL;VALUE=URI:https://wordpress.org/plugins/eroom-zoom-meetings-webinar/
DTSTART:20240213T133000Z
DTEND:20240213T153000Z
DTSTAMP:20260420T084038Z
BEGIN:VALARM
ACTION:DISPLAY
RIGGER;RELATED=START:-PT00H15M00S
BEGIN:VALARM
END:VEVENT
END:VCALENDAR