BEGIN:VCALENDAR
VERSION:2.0
PRODID:-// eRoom plugin //NONSGML v1.0//EN
CALSCALE:GREGORIAN
BEGIN:VEVENT
UID:eRoom-1776760571
SUMMARY:User Experience Signals
LOCATION:
DESCRIPTION<p>Delve into User Experience Signals with this guide. Learn how user behavior, site speed, mobile responsiveness, and other factors impact the overall user experience on your website. Discover strategies to optimize these signals for improved user satisfaction and search engine performance. Ideal for enhancing the user-centric elements of your digital presence.</p>
URL;VALUE=URI:https://wordpress.org/plugins/eroom-zoom-meetings-webinar/
DTSTART:20240112T133000Z
DTEND:20240112T153000Z
DTSTAMP:20260421T083611Z
BEGIN:VALARM
ACTION:DISPLAY
RIGGER;RELATED=START:-PT00H15M00S
BEGIN:VALARM
END:VEVENT
END:VCALENDAR